BEGIN:VCALENDAR
VERSION:2.0
METHOD:PUBLISH
PRODID:-//hacksw/handcal/NONSGML v1.0//EN
BEGIN:VEVENT
TZID:America/New_York
UID:sudbury-zoom-event-402b9098b9b89d221e2bd16fdba80c24@sudbury.ma.us
SEQUENCE:1776982303
DTSTAMP:20260423T221143Z
DTSTART:20041019T233000Z
DURATION:PT120M
SUMMARY:Cable Television Committee Meeting: Tuesday\, October 19\, 2004
LOCATION:Fire Station (Headquarters)
URL:https://sudbury.ma.us/cable/meeting/cable-television-committee-meeting-tuesday-october-19-2004/
DESCRIPTION:For the latest details\, visit:  https://sudbury.ma.us/cable/meeting/cable-television-committee-meeting-tuesday-october-19-2004/
END:VEVENT
END:VCALENDAR