BEGIN:VCALENDAR
VERSION:2.0
METHOD:PUBLISH
PRODID:-//hacksw/handcal/NONSGML v1.0//EN
BEGIN:VEVENT
TZID:America/New_York
UID:sudbury-zoom-event-bef81bd97ce3bf3f5a23d2b6c621c3c1@sudbury.ma.us
SEQUENCE:1776982302
DTSTAMP:20260423T221142Z
DTSTART:20041215T003000Z
DURATION:PT120M
SUMMARY:Cable Television Committee Meeting: Tuesday\, December 14\, 2004
LOCATION:Fire Station (Headquarters)
URL:https://sudbury.ma.us/cable/meeting/cable-television-committee-meeting-tuesday-december-14-2004/
DESCRIPTION:For the latest details\, visit:  https://sudbury.ma.us/cable/meeting/cable-television-committee-meeting-tuesday-december-14-2004/
END:VEVENT
END:VCALENDAR