BEGIN:VCALENDAR
VERSION:2.0
METHOD:PUBLISH
PRODID:-//hacksw/handcal/NONSGML v1.0//EN
BEGIN:VEVENT
TZID:America/New_York
UID:sudbury-zoom-event-99aef4934e9fd88dda63b7ff165bdb9c@sudbury.ma.us
SEQUENCE:1776986656
DTSTAMP:20260423T232416Z
DTSTART:20050510T233000Z
DURATION:PT120M
SUMMARY:Cable Television Committee Meeting: Tuesday\, May 10\, 2005
LOCATION:Fire Station (Headquarters)
URL:https://sudbury.ma.us/cable/meeting/cable-television-committee-meeting-tuesday-may-10-2005/
DESCRIPTION:For the latest details\, visit:  https://sudbury.ma.us/cable/meeting/cable-television-committee-meeting-tuesday-may-10-2005/
END:VEVENT
END:VCALENDAR