BEGIN:VCALENDAR
VERSION:2.0
METHOD:PUBLISH
PRODID:-//hacksw/handcal/NONSGML v1.0//EN
BEGIN:VEVENT
TZID:America/New_York
UID:sudbury-zoom-event-d544f663901f1132193539f699352d51@sudbury.ma.us
SEQUENCE:1776986699
DTSTAMP:20260423T232459Z
DTSTART:20051116T003000Z
DURATION:PT120M
SUMMARY:Cable Television Committee Meeting: Tuesday\, November 15\, 2005
LOCATION:Flynn Building - Thompson Meeting Room (2nd Floor)
URL:https://sudbury.ma.us/cable/meeting/cable-television-committee-meeting-tuesday-november-15-2005/
DESCRIPTION:For the latest details\, visit:  https://sudbury.ma.us/cable/meeting/cable-television-committee-meeting-tuesday-november-15-2005/
END:VEVENT
END:VCALENDAR