BEGIN:VCALENDAR
VERSION:2.0
METHOD:PUBLISH
PRODID:-//hacksw/handcal/NONSGML v1.0//EN
BEGIN:VEVENT
TZID:America/New_York
UID:sudbury-zoom-event-a583481713693daaffa41bbb1ca883a2@sudbury.ma.us
SEQUENCE:1776982300
DTSTAMP:20260423T221140Z
DTSTART:20060111T003000Z
DURATION:PT120M
SUMMARY:Cable Television Committee Meeting: Tuesday\, January 10\, 2006
LOCATION:Lincoln-Sudbury Regional High School
URL:https://sudbury.ma.us/cable/meeting/cable-television-committee-meeting-tuesday-january-10-2006/
DESCRIPTION:For the latest details\, visit:  https://sudbury.ma.us/cable/meeting/cable-television-committee-meeting-tuesday-january-10-2006/
END:VEVENT
END:VCALENDAR