BEGIN:VCALENDAR
VERSION:2.0
METHOD:PUBLISH
PRODID:-//hacksw/handcal/NONSGML v1.0//EN
BEGIN:VEVENT
TZID:America/New_York
UID:sudbury-zoom-event-623f47f93f0fc47e821096aefa321872@sudbury.ma.us
SEQUENCE:1776982300
DTSTAMP:20260423T221140Z
DTSTART:20060913T231500Z
DURATION:PT120M
SUMMARY:Cable Television Committee Meeting: Wednesday\, September 13\, 2006
LOCATION:Lincoln-Sudbury Regional High School
URL:https://sudbury.ma.us/cable/meeting/cable-television-committee-meeting-wednesday-september-13-2006/
DESCRIPTION:For the latest details\, visit:  https://sudbury.ma.us/cable/meeting/cable-television-committee-meeting-wednesday-september-13-2006/
END:VEVENT
END:VCALENDAR