BEGIN:VCALENDAR
VERSION:2.0
METHOD:PUBLISH
PRODID:-//hacksw/handcal/NONSGML v1.0//EN
BEGIN:VEVENT
TZID:America/New_York
UID:sudbury-zoom-event-a0b4b72eb6231fdaf55ac2f08066d4e3@sudbury.ma.us
SEQUENCE:1776982302
DTSTAMP:20260423T221142Z
DTSTART:20060502T233000Z
DURATION:PT120M
SUMMARY:Cable Television Committee Meeting: Tuesday\, May 2\, 2006
LOCATION:Lincoln-Sudbury Regional High School
URL:https://sudbury.ma.us/cable/meeting/cable-television-committee-meeting-tuesday-may-2-2006/
DESCRIPTION:For the latest details\, visit:  https://sudbury.ma.us/cable/meeting/cable-television-committee-meeting-tuesday-may-2-2006/
END:VEVENT
END:VCALENDAR