BEGIN:VCALENDAR
VERSION:2.0
METHOD:PUBLISH
PRODID:-//hacksw/handcal/NONSGML v1.0//EN
BEGIN:VEVENT
TZID:America/New_York
UID:sudbury-zoom-event-148b4e09fd3b3c339b5d84ca6ed02b46@sudbury.ma.us
SEQUENCE:1776982301
DTSTAMP:20260423T221141Z
DTSTART:20070221T003000Z
DURATION:PT120M
SUMMARY:Cable Television Committee Meeting: Tuesday\, February 20\, 2007
LOCATION:Lincoln-Sudbury Regional High School
URL:https://sudbury.ma.us/cable/meeting/cable-television-committee-meeting-tuesday-february-20-2007/
DESCRIPTION:For the latest details\, visit:  https://sudbury.ma.us/cable/meeting/cable-television-committee-meeting-tuesday-february-20-2007/
END:VEVENT
END:VCALENDAR