BEGIN:VCALENDAR
VERSION:2.0
METHOD:PUBLISH
PRODID:-//hacksw/handcal/NONSGML v1.0//EN
BEGIN:VEVENT
TZID:America/New_York
UID:sudbury-zoom-event-c3dcc0c9e49ebf35218ab7ed63ce7c03@sudbury.ma.us
SEQUENCE:1776982336
DTSTAMP:20260423T221216Z
DTSTART:20070320T233000Z
DURATION:PT120M
SUMMARY:Cable Television Committee Meeting: Tuesday\, March 20\, 2007
LOCATION:Goodnow Library - Small Conference Room
URL:https://sudbury.ma.us/cable/meeting/cable-television-committee-meeting-tuesday-march-20-2007/
DESCRIPTION:For the latest details\, visit:  https://sudbury.ma.us/cable/meeting/cable-television-committee-meeting-tuesday-march-20-2007/
END:VEVENT
END:VCALENDAR