BEGIN:VCALENDAR
VERSION:2.0
METHOD:PUBLISH
PRODID:-//hacksw/handcal/NONSGML v1.0//EN
BEGIN:VEVENT
TZID:America/New_York
UID:sudbury-zoom-event-5c8332782c950c68899010555e946b10@sudbury.ma.us
SEQUENCE:1776982328
DTSTAMP:20260423T221208Z
DTSTART:20070515T233000Z
DURATION:PT120M
SUMMARY:Cable Television Committee Meeting: Tuesday\, May 15\, 2007
LOCATION:Lincoln-Sudbury Regional High School
URL:https://sudbury.ma.us/cable/meeting/cable-television-committee-meeting-tuesday-may-15-2007/
DESCRIPTION:For the latest details\, visit:  https://sudbury.ma.us/cable/meeting/cable-television-committee-meeting-tuesday-may-15-2007/
END:VEVENT
END:VCALENDAR