BEGIN:VCALENDAR
VERSION:2.0
METHOD:PUBLISH
PRODID:-//hacksw/handcal/NONSGML v1.0//EN
BEGIN:VEVENT
TZID:America/New_York
UID:sudbury-zoom-event-250ae57a8adb8e78d5f3623dcf63b657@sudbury.ma.us
SEQUENCE:1776986656
DTSTAMP:20260423T232416Z
DTSTART:20070710T233000Z
DURATION:PT120M
SUMMARY:Cable Television Committee Meeting: Tuesday\, July 10\, 2007
LOCATION:Goodnow Library - Community Room
URL:https://sudbury.ma.us/cable/meeting/cable-television-committee-meeting-tuesday-july-10-2007/
DESCRIPTION:For the latest details\, visit:  https://sudbury.ma.us/cable/meeting/cable-television-committee-meeting-tuesday-july-10-2007/
END:VEVENT
END:VCALENDAR