BEGIN:VCALENDAR
VERSION:2.0
METHOD:PUBLISH
PRODID:-//hacksw/handcal/NONSGML v1.0//EN
BEGIN:VEVENT
TZID:America/New_York
UID:sudbury-zoom-event-4b476a4d68f914cdfd2c123c82ac112e@sudbury.ma.us
SEQUENCE:1776981950
DTSTAMP:20260423T220550Z
DTSTART:20080104T003000Z
DURATION:PT120M
SUMMARY:Cable Television Committee Meeting: Thursday\, January 3\, 2008
LOCATION:Lincoln-Sudbury Regional High School
URL:https://sudbury.ma.us/cable/meeting/cable-television-committee-meeting-thursday-january-3-2008/
DESCRIPTION:For the latest details\, visit:  https://sudbury.ma.us/cable/meeting/cable-television-committee-meeting-thursday-january-3-2008/
END:VEVENT
END:VCALENDAR