BEGIN:VCALENDAR
VERSION:2.0
METHOD:PUBLISH
PRODID:-//hacksw/handcal/NONSGML v1.0//EN
BEGIN:VEVENT
TZID:America/New_York
UID:sudbury-zoom-event-9217052fb9606f603fbdd412908a08e5@sudbury.ma.us
SEQUENCE:1776982301
DTSTAMP:20260423T221141Z
DTSTART:20080213T010000Z
DURATION:PT120M
SUMMARY:Cable Television Committee Meeting: Tuesday\, February 12\, 2008
LOCATION:Flynn Building - Thompson Meeting Room (2nd Floor)
URL:https://sudbury.ma.us/cable/meeting/cable-television-committee-meeting-tuesday-february-12-2008/
DESCRIPTION:For the latest details\, visit:  https://sudbury.ma.us/cable/meeting/cable-television-committee-meeting-tuesday-february-12-2008/
END:VEVENT
END:VCALENDAR