BEGIN:VCALENDAR
VERSION:2.0
METHOD:PUBLISH
PRODID:-//hacksw/handcal/NONSGML v1.0//EN
BEGIN:VEVENT
TZID:America/New_York
UID:sudbury-zoom-event-df7e048c9babced2f393a53427f90e50@sudbury.ma.us
SEQUENCE:1776624394
DTSTAMP:20260419T184634Z
DTSTART:20180326T110000Z
DURATION:PT780M
SUMMARY:TODAY: Annual Town Election March 26
LOCATION:
URL:https://sudbury.ma.us/clerk/2018/03/26/annual-town-election-march-26/
DESCRIPTION:For the latest details\, visit:  https://sudbury.ma.us/clerk/2018/03/26/annual-town-election-march-26/
END:VEVENT
END:VCALENDAR