BEGIN:VCALENDAR
VERSION:2.0
METHOD:PUBLISH
PRODID:-//hacksw/handcal/NONSGML v1.0//EN
BEGIN:VEVENT
TZID:America/New_York
UID:sudbury-zoom-event-6d51c24468b342b20e45f8ea8c30a09c@sudbury.ma.us
SEQUENCE:1776802703
DTSTAMP:20260421T201823Z
DTSTART:20171121T133000Z
DURATION:PT690M
SUMMARY:December 11 Town Election
LOCATION:Town Hall
URL:https://sudbury.ma.us/clerk/2017/12/10/special-voter-registration-for-december-11-town-election/
DESCRIPTION:For the latest details\, visit:  https://sudbury.ma.us/clerk/2017/12/10/special-voter-registration-for-december-11-town-election/
END:VEVENT
END:VCALENDAR