BEGIN:VCALENDAR
VERSION:2.0
METHOD:PUBLISH
PRODID:-//hacksw/handcal/NONSGML v1.0//EN
BEGIN:VEVENT
TZID:America/New_York
UID:sudbury-zoom-event-2dd05361b27376ba7fa7570b473dac91@sudbury.ma.us
SEQUENCE:1776624362
DTSTAMP:20260419T184602Z
DTSTART:20190604T110000Z
DURATION:PT780M
SUMMARY:Special Town Election - June 4\, 2019
LOCATION:
URL:https://sudbury.ma.us/clerk/2019/06/04/special-town-election-june-4-2019/
DESCRIPTION:For the latest details\, visit:  https://sudbury.ma.us/clerk/2019/06/04/special-town-election-june-4-2019/
END:VEVENT
END:VCALENDAR