BEGIN:VCALENDAR
VERSION:2.0
METHOD:PUBLISH
PRODID:-//hacksw/handcal/NONSGML v1.0//EN
BEGIN:VEVENT
TZID:America/New_York
UID:sudbury-zoom-event-d308821e3586925bd0b0f844d5a3831a@sudbury.ma.us
SEQUENCE:1776619107
DTSTAMP:20260419T171827Z
DTSTART:20220906T110000Z
DURATION:PT780M
SUMMARY:State Primary Election - September 6\, 2022
LOCATION:
URL:https://sudbury.ma.us/clerk/2022/09/06/stateprimary2020-2/
DESCRIPTION:For the latest details\, visit:  https://sudbury.ma.us/clerk/2022/09/06/stateprimary2020-2/
END:VEVENT
END:VCALENDAR