BEGIN:VCALENDAR
VERSION:2.0
METHOD:PUBLISH
PRODID:-//hacksw/handcal/NONSGML v1.0//EN
BEGIN:VEVENT
TZID:America/New_York
UID:sudbury-zoom-event-062964e7eaacc772608a5fcd23fd2617@sudbury.ma.us
SEQUENCE:1776794927
DTSTAMP:20260421T180847Z
DTSTART:20030811T233000Z
DURATION:PT120M
SUMMARY:Community Housing Committee Meeting: Monday\, August 11\, 2003
LOCATION:Department of Public Works Building - Conference Room
URL:https://sudbury.ma.us/communityhousing/meeting/community-housing-committee-meeting-monday-august-11-2003/
DESCRIPTION:For the latest details\, visit:  https://sudbury.ma.us/communityhousing/meeting/community-housing-committee-meeting-monday-august-11-2003/
END:VEVENT
END:VCALENDAR