BEGIN:VCALENDAR
VERSION:2.0
METHOD:PUBLISH
PRODID:-//hacksw/handcal/NONSGML v1.0//EN
BEGIN:VEVENT
TZID:America/New_York
UID:sudbury-zoom-event-0f5a1416cdce25b4108cfd74a010168a@sudbury.ma.us
SEQUENCE:1776794926
DTSTAMP:20260421T180846Z
DTSTART:20030716T233000Z
DURATION:PT120M
SUMMARY:Community Housing Committee Meeting: Wednesday\, July 16\, 2003
LOCATION:Department of Public Works Building - Conference Room
URL:https://sudbury.ma.us/communityhousing/meeting/community-housing-committee-meeting-wednesday-july-16-2003/
DESCRIPTION:For the latest details\, visit:  https://sudbury.ma.us/communityhousing/meeting/community-housing-committee-meeting-wednesday-july-16-2003/
END:VEVENT
END:VCALENDAR