BEGIN:VCALENDAR
VERSION:2.0
METHOD:PUBLISH
PRODID:-//hacksw/handcal/NONSGML v1.0//EN
BEGIN:VEVENT
TZID:America/New_York
UID:sudbury-zoom-event-b107fb7c1bd783b42b15b2861f5ea662@sudbury.ma.us
SEQUENCE:1776794906
DTSTAMP:20260421T180826Z
DTSTART:20031014T233000Z
DURATION:PT120M
SUMMARY:Community Housing Committee Meeting: Tuesday\, October 14\, 2003
LOCATION:Department of Public Works Building - Conference Room
URL:https://sudbury.ma.us/communityhousing/meeting/community-housing-committee-meeting-tuesday-october-14-2003/
DESCRIPTION:For the latest details\, visit:  https://sudbury.ma.us/communityhousing/meeting/community-housing-committee-meeting-tuesday-october-14-2003/
END:VEVENT
END:VCALENDAR