BEGIN:VCALENDAR
VERSION:2.0
METHOD:PUBLISH
PRODID:-//hacksw/handcal/NONSGML v1.0//EN
BEGIN:VEVENT
TZID:America/New_York
UID:sudbury-zoom-event-a6e48bc94eb76b2d73a9134d4f253b99@sudbury.ma.us
SEQUENCE:1776795448
DTSTAMP:20260421T181728Z
DTSTART:20031112T003000Z
DURATION:PT120M
SUMMARY:Community Housing Committee Meeting: Tuesday\, November 11\, 2003
LOCATION:Department of Public Works Building - Conference Room
URL:https://sudbury.ma.us/communityhousing/meeting/community-housing-committee-meeting-tuesday-november-11-2003/
DESCRIPTION:For the latest details\, visit:  https://sudbury.ma.us/communityhousing/meeting/community-housing-committee-meeting-tuesday-november-11-2003/
END:VEVENT
END:VCALENDAR