BEGIN:VCALENDAR
VERSION:2.0
METHOD:PUBLISH
PRODID:-//hacksw/handcal/NONSGML v1.0//EN
BEGIN:VEVENT
TZID:America/New_York
UID:sudbury-zoom-event-644fa28941bc581790c5b2a41a05aae9@sudbury.ma.us
SEQUENCE:1776795488
DTSTAMP:20260421T181808Z
DTSTART:20040127T170000Z
DURATION:PT120M
SUMMARY:Community Housing Committee Meeting: Tuesday\, January 27\, 2004
LOCATION:Department of Public Works Building - Conference Room
URL:https://sudbury.ma.us/communityhousing/meeting/community-housing-committee-meeting-tuesday-january-27-2004/
DESCRIPTION:For the latest details\, visit:  https://sudbury.ma.us/communityhousing/meeting/community-housing-committee-meeting-tuesday-january-27-2004/
END:VEVENT
END:VCALENDAR