BEGIN:VCALENDAR
VERSION:2.0
METHOD:PUBLISH
PRODID:-//hacksw/handcal/NONSGML v1.0//EN
BEGIN:VEVENT
TZID:America/New_York
UID:sudbury-zoom-event-852d45e28ba9b929b6b76724ac6fea9c@sudbury.ma.us
SEQUENCE:1776794907
DTSTAMP:20260421T180827Z
DTSTART:20040211T003000Z
DURATION:PT120M
SUMMARY:Community Housing Committee Meeting: Tuesday\, February 10\, 2004
LOCATION:Department of Public Works Building - Conference Room
URL:https://sudbury.ma.us/communityhousing/meeting/community-housing-committee-meeting-tuesday-february-10-2004/
DESCRIPTION:For the latest details\, visit:  https://sudbury.ma.us/communityhousing/meeting/community-housing-committee-meeting-tuesday-february-10-2004/
END:VEVENT
END:VCALENDAR