BEGIN:VCALENDAR
VERSION:2.0
METHOD:PUBLISH
PRODID:-//hacksw/handcal/NONSGML v1.0//EN
BEGIN:VEVENT
TZID:America/New_York
UID:sudbury-zoom-event-0591be60c61babbf22a5dd4d391e7f33@sudbury.ma.us
SEQUENCE:1776794927
DTSTAMP:20260421T180847Z
DTSTART:20040223T170000Z
DURATION:PT120M
SUMMARY:Community Housing Committee Meeting: Monday\, February 23\, 2004
LOCATION:Department of Public Works Building - Conference Room
URL:https://sudbury.ma.us/communityhousing/meeting/community-housing-committee-meeting-monday-february-23-2004/
DESCRIPTION:For the latest details\, visit:  https://sudbury.ma.us/communityhousing/meeting/community-housing-committee-meeting-monday-february-23-2004/
END:VEVENT
END:VCALENDAR