BEGIN:VCALENDAR
VERSION:2.0
METHOD:PUBLISH
PRODID:-//hacksw/handcal/NONSGML v1.0//EN
BEGIN:VEVENT
TZID:America/New_York
UID:sudbury-zoom-event-1a75826b167d5288ba0fc0b239c73d45@sudbury.ma.us
SEQUENCE:1776800451
DTSTAMP:20260421T194051Z
DTSTART:20040309T170000Z
DURATION:PT120M
SUMMARY:Community Housing Committee Meeting: Tuesday\, March 9\, 2004
LOCATION:Department of Public Works Building - Conference Room
URL:https://sudbury.ma.us/communityhousing/meeting/community-housing-committee-meeting-tuesday-march-9-2004/
DESCRIPTION:For the latest details\, visit:  https://sudbury.ma.us/communityhousing/meeting/community-housing-committee-meeting-tuesday-march-9-2004/
END:VEVENT
END:VCALENDAR