BEGIN:VCALENDAR
VERSION:2.0
METHOD:PUBLISH
PRODID:-//hacksw/handcal/NONSGML v1.0//EN
BEGIN:VEVENT
TZID:America/New_York
UID:sudbury-zoom-event-779a210a4bc0ebadc82ae1a2a3d556f3@sudbury.ma.us
SEQUENCE:1776800445
DTSTAMP:20260421T194045Z
DTSTART:20040803T233000Z
DURATION:PT120M
SUMMARY:Community Housing Committee Meeting: Tuesday\, August 3\, 2004
LOCATION:Department of Public Works Building - Conference Room
URL:https://sudbury.ma.us/communityhousing/meeting/community-housing-committee-meeting-tuesday-august-3-2004/
DESCRIPTION:For the latest details\, visit:  https://sudbury.ma.us/communityhousing/meeting/community-housing-committee-meeting-tuesday-august-3-2004/
END:VEVENT
END:VCALENDAR