BEGIN:VCALENDAR
VERSION:2.0
METHOD:PUBLISH
PRODID:-//hacksw/handcal/NONSGML v1.0//EN
BEGIN:VEVENT
TZID:America/New_York
UID:sudbury-zoom-event-4694e7b87376e4604d3269bbd7fbda8a@sudbury.ma.us
SEQUENCE:1776794908
DTSTAMP:20260421T180828Z
DTSTART:20040506T160000Z
DURATION:PT120M
SUMMARY:Community Housing Committee Meeting: Thursday\, May 6\, 2004
LOCATION:Department of Public Works Building - Conference Room
URL:https://sudbury.ma.us/communityhousing/meeting/community-housing-committee-meeting-thursday-may-6-2004/
DESCRIPTION:For the latest details\, visit:  https://sudbury.ma.us/communityhousing/meeting/community-housing-committee-meeting-thursday-may-6-2004/
END:VEVENT
END:VCALENDAR