BEGIN:VCALENDAR
VERSION:2.0
METHOD:PUBLISH
PRODID:-//hacksw/handcal/NONSGML v1.0//EN
BEGIN:VEVENT
TZID:America/New_York
UID:sudbury-zoom-event-d2e35bc765fbfa9c1a529a22fdbfe4dc@sudbury.ma.us
SEQUENCE:1776794906
DTSTAMP:20260421T180826Z
DTSTART:20041007T160000Z
DURATION:PT120M
SUMMARY:Community Housing Committee Meeting: Thursday\, October 7\, 2004
LOCATION:Department of Public Works Building - Conference Room
URL:https://sudbury.ma.us/communityhousing/meeting/community-housing-committee-meeting-thursday-october-7-2004/
DESCRIPTION:For the latest details\, visit:  https://sudbury.ma.us/communityhousing/meeting/community-housing-committee-meeting-thursday-october-7-2004/
END:VEVENT
END:VCALENDAR