BEGIN:VCALENDAR
VERSION:2.0
METHOD:PUBLISH
PRODID:-//hacksw/handcal/NONSGML v1.0//EN
BEGIN:VEVENT
TZID:America/New_York
UID:sudbury-zoom-event-fca720a04da24ba49881315085b862b2@sudbury.ma.us
SEQUENCE:1776794927
DTSTAMP:20260421T180847Z
DTSTART:20041029T160000Z
DURATION:PT120M
SUMMARY:Community Housing Committee Meeting: Friday\, October 29\, 2004
LOCATION:Department of Public Works Building - Conference Room
URL:https://sudbury.ma.us/communityhousing/meeting/community-housing-committee-meeting-friday-october-29-2004/
DESCRIPTION:For the latest details\, visit:  https://sudbury.ma.us/communityhousing/meeting/community-housing-committee-meeting-friday-october-29-2004/
END:VEVENT
END:VCALENDAR