BEGIN:VCALENDAR
VERSION:2.0
METHOD:PUBLISH
PRODID:-//hacksw/handcal/NONSGML v1.0//EN
BEGIN:VEVENT
TZID:America/New_York
UID:sudbury-zoom-event-680d6730f87a7509791a7609e903483f@sudbury.ma.us
SEQUENCE:1776800528
DTSTAMP:20260421T194208Z
DTSTART:20050218T170000Z
DURATION:PT120M
SUMMARY:Community Housing Committee Meeting: Friday\, February 18\, 2005
LOCATION:Department of Public Works Building - Conference Room
URL:https://sudbury.ma.us/communityhousing/meeting/community-housing-committee-meeting-friday-february-18-2005/
DESCRIPTION:For the latest details\, visit:  https://sudbury.ma.us/communityhousing/meeting/community-housing-committee-meeting-friday-february-18-2005/
END:VEVENT
END:VCALENDAR