BEGIN:VCALENDAR
VERSION:2.0
METHOD:PUBLISH
PRODID:-//hacksw/handcal/NONSGML v1.0//EN
BEGIN:VEVENT
TZID:America/New_York
UID:sudbury-zoom-event-58134ea09051876290a3c9b571511113@sudbury.ma.us
SEQUENCE:1776794942
DTSTAMP:20260421T180902Z
DTSTART:20050321T170000Z
DURATION:PT120M
SUMMARY:Community Housing Committee Meeting: Monday\, March 21\, 2005
LOCATION:Flynn Building - Thompson Meeting Room (2nd Floor)
URL:https://sudbury.ma.us/communityhousing/meeting/community-housing-committee-meeting-monday-march-21-2005/
DESCRIPTION:For the latest details\, visit:  https://sudbury.ma.us/communityhousing/meeting/community-housing-committee-meeting-monday-march-21-2005/
END:VEVENT
END:VCALENDAR