BEGIN:VCALENDAR
VERSION:2.0
METHOD:PUBLISH
PRODID:-//hacksw/handcal/NONSGML v1.0//EN
BEGIN:VEVENT
TZID:America/New_York
UID:sudbury-zoom-event-91d47e8ce05f069b63a26fb7335f6647@sudbury.ma.us
SEQUENCE:1776795447
DTSTAMP:20260421T181727Z
DTSTART:20050429T170000Z
DURATION:PT120M
SUMMARY:Community Housing Committee Meeting: Friday\, April 29\, 2005
LOCATION:Flynn Building - Thompson Meeting Room (2nd Floor)
URL:https://sudbury.ma.us/communityhousing/meeting/community-housing-committee-meeting-friday-april-29-2005/
DESCRIPTION:For the latest details\, visit:  https://sudbury.ma.us/communityhousing/meeting/community-housing-committee-meeting-friday-april-29-2005/
END:VEVENT
END:VCALENDAR