BEGIN:VCALENDAR
VERSION:2.0
METHOD:PUBLISH
PRODID:-//hacksw/handcal/NONSGML v1.0//EN
BEGIN:VEVENT
TZID:America/New_York
UID:sudbury-zoom-event-803cc3531412fa4860479bf063ee7151@sudbury.ma.us
SEQUENCE:1776794941
DTSTAMP:20260421T180901Z
DTSTART:20050524T233000Z
DURATION:PT120M
SUMMARY:Community Housing Committee Meeting: Tuesday\, May 24\, 2005
LOCATION:Department of Public Works Building - Conference Room
URL:https://sudbury.ma.us/communityhousing/meeting/community-housing-committee-meeting-tuesday-may-24-2005/
DESCRIPTION:For the latest details\, visit:  https://sudbury.ma.us/communityhousing/meeting/community-housing-committee-meeting-tuesday-may-24-2005/
END:VEVENT
END:VCALENDAR