BEGIN:VCALENDAR
VERSION:2.0
METHOD:PUBLISH
PRODID:-//hacksw/handcal/NONSGML v1.0//EN
BEGIN:VEVENT
TZID:America/New_York
UID:sudbury-zoom-event-1e467276cac2364ab99f7294f798888e@sudbury.ma.us
SEQUENCE:1776794927
DTSTAMP:20260421T180847Z
DTSTART:20050926T233000Z
DURATION:PT120M
SUMMARY:Community Housing Committee Meeting: Monday\, September 26\, 2005
LOCATION:Department of Public Works Building - Conference Room
URL:https://sudbury.ma.us/communityhousing/meeting/community-housing-committee-meeting-monday-september-26-2005/
DESCRIPTION:For the latest details\, visit:  https://sudbury.ma.us/communityhousing/meeting/community-housing-committee-meeting-monday-september-26-2005/
END:VEVENT
END:VCALENDAR