BEGIN:VCALENDAR
VERSION:2.0
METHOD:PUBLISH
PRODID:-//hacksw/handcal/NONSGML v1.0//EN
BEGIN:VEVENT
TZID:America/New_York
UID:sudbury-zoom-event-39b8396bbe7d29ab9e651dfc74a804e4@sudbury.ma.us
SEQUENCE:1776794881
DTSTAMP:20260421T180801Z
DTSTART:20051115T003000Z
DURATION:PT120M
SUMMARY:Community Housing Committee Meeting: Monday\, November 14\, 2005
LOCATION:Department of Public Works Building - Conference Room
URL:https://sudbury.ma.us/communityhousing/meeting/community-housing-committee-meeting-monday-november-14-2005/
DESCRIPTION:For the latest details\, visit:  https://sudbury.ma.us/communityhousing/meeting/community-housing-committee-meeting-monday-november-14-2005/
END:VEVENT
END:VCALENDAR