BEGIN:VCALENDAR
VERSION:2.0
METHOD:PUBLISH
PRODID:-//hacksw/handcal/NONSGML v1.0//EN
BEGIN:VEVENT
TZID:America/New_York
UID:sudbury-zoom-event-99ecad465ea17c539fcfc61dbb1ea78d@sudbury.ma.us
SEQUENCE:1776800409
DTSTAMP:20260421T194009Z
DTSTART:20051205T180000Z
DURATION:PT120M
SUMMARY:Community Housing Committee Meeting: Monday\, December 5\, 2005
LOCATION:Flynn Building - Silva Meeting Room (2nd Floor)
URL:https://sudbury.ma.us/communityhousing/meeting/community-housing-committee-meeting-monday-december-5-2005/
DESCRIPTION:For the latest details\, visit:  https://sudbury.ma.us/communityhousing/meeting/community-housing-committee-meeting-monday-december-5-2005/
END:VEVENT
END:VCALENDAR