BEGIN:VCALENDAR
VERSION:2.0
METHOD:PUBLISH
PRODID:-//hacksw/handcal/NONSGML v1.0//EN
BEGIN:VEVENT
TZID:America/New_York
UID:sudbury-zoom-event-3b6cb29d4378535ab1594563b510d310@sudbury.ma.us
SEQUENCE:1776800445
DTSTAMP:20260421T194045Z
DTSTART:20060127T173000Z
DURATION:PT120M
SUMMARY:Community Housing Committee Meeting: Friday\, January 27\, 2006
LOCATION:Flynn Building - Silva Meeting Room (2nd Floor)
URL:https://sudbury.ma.us/communityhousing/meeting/community-housing-committee-meeting-friday-january-27-2006/
DESCRIPTION:For the latest details\, visit:  https://sudbury.ma.us/communityhousing/meeting/community-housing-committee-meeting-friday-january-27-2006/
END:VEVENT
END:VCALENDAR