BEGIN:VCALENDAR
VERSION:2.0
METHOD:PUBLISH
PRODID:-//hacksw/handcal/NONSGML v1.0//EN
BEGIN:VEVENT
TZID:America/New_York
UID:sudbury-zoom-event-8a563e1050badd3bf2b255939c2378eb@sudbury.ma.us
SEQUENCE:1776794942
DTSTAMP:20260421T180902Z
DTSTART:20060224T173000Z
DURATION:PT120M
SUMMARY:Community Housing Committee Meeting: Friday\, February 24\, 2006
LOCATION:Flynn Building - Silva Meeting Room (2nd Floor)
URL:https://sudbury.ma.us/communityhousing/meeting/community-housing-committee-meeting-friday-february-24-2006/
DESCRIPTION:For the latest details\, visit:  https://sudbury.ma.us/communityhousing/meeting/community-housing-committee-meeting-friday-february-24-2006/
END:VEVENT
END:VCALENDAR