BEGIN:VCALENDAR
VERSION:2.0
METHOD:PUBLISH
PRODID:-//hacksw/handcal/NONSGML v1.0//EN
BEGIN:VEVENT
TZID:America/New_York
UID:sudbury-zoom-event-f5162c8fbbf7571f483b01747f544e64@sudbury.ma.us
SEQUENCE:1776800434
DTSTAMP:20260421T194034Z
DTSTART:20050121T180000Z
DURATION:PT120M
SUMMARY:Community Housing Committee Meeting: Friday\, January 21\, 2005
LOCATION:Department of Public Works Building - Conference Room
URL:https://sudbury.ma.us/communityhousing/meeting/community-housing-committee-meeting-friday-january-21-2005/
DESCRIPTION:For the latest details\, visit:  https://sudbury.ma.us/communityhousing/meeting/community-housing-committee-meeting-friday-january-21-2005/
END:VEVENT
END:VCALENDAR