BEGIN:VCALENDAR
VERSION:2.0
METHOD:PUBLISH
PRODID:-//hacksw/handcal/NONSGML v1.0//EN
BEGIN:VEVENT
TZID:America/New_York
UID:sudbury-zoom-event-b0fc33dd6e4c2b881231f5b771fa6472@sudbury.ma.us
SEQUENCE:1776800451
DTSTAMP:20260421T194051Z
DTSTART:20060428T163000Z
DURATION:PT120M
SUMMARY:Community Housing Committee Meeting: Friday\, April 28\, 2006
LOCATION:Flynn Building - Silva Meeting Room (2nd Floor)
URL:https://sudbury.ma.us/communityhousing/meeting/community-housing-committee-meeting-friday-april-28-2006/
DESCRIPTION:For the latest details\, visit:  https://sudbury.ma.us/communityhousing/meeting/community-housing-committee-meeting-friday-april-28-2006/
END:VEVENT
END:VCALENDAR