BEGIN:VCALENDAR
VERSION:2.0
METHOD:PUBLISH
PRODID:-//hacksw/handcal/NONSGML v1.0//EN
BEGIN:VEVENT
TZID:America/New_York
UID:sudbury-zoom-event-6bc77c98c39e0f4e199cb1c06d08d801@sudbury.ma.us
SEQUENCE:1776794942
DTSTAMP:20260421T180902Z
DTSTART:20060511T113000Z
DURATION:PT120M
SUMMARY:Community Housing Committee Meeting: Thursday\, May 11\, 2006
LOCATION:Town Hall - Lower Level
URL:https://sudbury.ma.us/communityhousing/meeting/community-housing-committee-meeting-thursday-may-11-2006/
DESCRIPTION:For the latest details\, visit:  https://sudbury.ma.us/communityhousing/meeting/community-housing-committee-meeting-thursday-may-11-2006/
END:VEVENT
END:VCALENDAR