BEGIN:VCALENDAR
VERSION:2.0
METHOD:PUBLISH
PRODID:-//hacksw/handcal/NONSGML v1.0//EN
BEGIN:VEVENT
TZID:America/New_York
UID:sudbury-zoom-event-a6deae2cd6f2e4607a381ead4ed1bee8@sudbury.ma.us
SEQUENCE:1776795489
DTSTAMP:20260421T181809Z
DTSTART:20060918T233000Z
DURATION:PT120M
SUMMARY:Community Housing Committee Meeting: Monday\, September 18\, 2006
LOCATION:Flynn Building - Thompson Meeting Room (2nd Floor)
URL:https://sudbury.ma.us/communityhousing/meeting/community-housing-committee-meeting-monday-september-18-2006/
DESCRIPTION:For the latest details\, visit:  https://sudbury.ma.us/communityhousing/meeting/community-housing-committee-meeting-monday-september-18-2006/
END:VEVENT
END:VCALENDAR