BEGIN:VCALENDAR
VERSION:2.0
METHOD:PUBLISH
PRODID:-//hacksw/handcal/NONSGML v1.0//EN
BEGIN:VEVENT
TZID:America/New_York
UID:sudbury-zoom-event-00deb9962c69b978616873e76bc4628d@sudbury.ma.us
SEQUENCE:1776794907
DTSTAMP:20260421T180827Z
DTSTART:20061009T233000Z
DURATION:PT120M
SUMMARY:Community Housing Committee Meeting: Monday\, October 9\, 2006
LOCATION:Flynn Building - Silva Meeting Room (2nd Floor)
URL:https://sudbury.ma.us/communityhousing/meeting/community-housing-committee-meeting-monday-october-9-2006/
DESCRIPTION:For the latest details\, visit:  https://sudbury.ma.us/communityhousing/meeting/community-housing-committee-meeting-monday-october-9-2006/
END:VEVENT
END:VCALENDAR