BEGIN:VCALENDAR
VERSION:2.0
METHOD:PUBLISH
PRODID:-//hacksw/handcal/NONSGML v1.0//EN
BEGIN:VEVENT
TZID:America/New_York
UID:sudbury-zoom-event-d98505dc68a24b1cbc9d0220b620fc87@sudbury.ma.us
SEQUENCE:1776794943
DTSTAMP:20260421T180903Z
DTSTART:20061108T133000Z
DURATION:PT120M
SUMMARY:Community Housing Committee Meeting: Wednesday\, November 8\, 2006
LOCATION:Flynn Building - Silva Meeting Room (2nd Floor)
URL:https://sudbury.ma.us/communityhousing/meeting/community-housing-committee-meeting-wednesday-november-8-2006/
DESCRIPTION:For the latest details\, visit:  https://sudbury.ma.us/communityhousing/meeting/community-housing-committee-meeting-wednesday-november-8-2006/
END:VEVENT
END:VCALENDAR