BEGIN:VCALENDAR
VERSION:2.0
METHOD:PUBLISH
PRODID:-//hacksw/handcal/NONSGML v1.0//EN
BEGIN:VEVENT
TZID:America/New_York
UID:sudbury-zoom-event-8de3421220e9b832b55b5b1643a770fa@sudbury.ma.us
SEQUENCE:1776795436
DTSTAMP:20260421T181716Z
DTSTART:20061114T003000Z
DURATION:PT120M
SUMMARY:Community Housing Committee Meeting: Monday\, November 13\, 2006
LOCATION:Town Hall - Lower Level
URL:https://sudbury.ma.us/communityhousing/meeting/community-housing-committee-meeting-monday-november-13-2006/
DESCRIPTION:For the latest details\, visit:  https://sudbury.ma.us/communityhousing/meeting/community-housing-committee-meeting-monday-november-13-2006/
END:VEVENT
END:VCALENDAR