BEGIN:VCALENDAR
VERSION:2.0
METHOD:PUBLISH
PRODID:-//hacksw/handcal/NONSGML v1.0//EN
BEGIN:VEVENT
TZID:America/New_York
UID:sudbury-zoom-event-a53dc06075988222bd8829607be89383@sudbury.ma.us
SEQUENCE:1776794941
DTSTAMP:20260421T180901Z
DTSTART:20061212T003000Z
DURATION:PT120M
SUMMARY:Community Housing Committee Meeting: Monday\, December 11\, 2006
LOCATION:Town Hall - Lower Level
URL:https://sudbury.ma.us/communityhousing/meeting/community-housing-committee-meeting-monday-december-11-2006/
DESCRIPTION:For the latest details\, visit:  https://sudbury.ma.us/communityhousing/meeting/community-housing-committee-meeting-monday-december-11-2006/
END:VEVENT
END:VCALENDAR