BEGIN:VCALENDAR
VERSION:2.0
METHOD:PUBLISH
PRODID:-//hacksw/handcal/NONSGML v1.0//EN
BEGIN:VEVENT
TZID:America/New_York
UID:sudbury-zoom-event-3dd7993685500babbe4bf86a834bec4d@sudbury.ma.us
SEQUENCE:1776794943
DTSTAMP:20260421T180903Z
DTSTART:20070213T003000Z
DURATION:PT120M
SUMMARY:Community Housing Committee Meeting: Monday\, February 12\, 2007
LOCATION:Flynn Building - Silva Meeting Room (2nd Floor)
URL:https://sudbury.ma.us/communityhousing/meeting/community-housing-committee-meeting-monday-february-12-2007/
DESCRIPTION:For the latest details\, visit:  https://sudbury.ma.us/communityhousing/meeting/community-housing-committee-meeting-monday-february-12-2007/
END:VEVENT
END:VCALENDAR