BEGIN:VCALENDAR
VERSION:2.0
METHOD:PUBLISH
PRODID:-//hacksw/handcal/NONSGML v1.0//EN
BEGIN:VEVENT
TZID:America/New_York
UID:sudbury-zoom-event-55d029ee7d41ed00958d43f91fbecabb@sudbury.ma.us
SEQUENCE:1776794940
DTSTAMP:20260421T180900Z
DTSTART:20070423T233000Z
DURATION:PT120M
SUMMARY:Community Housing Committee Meeting: Monday\, April 23\, 2007
LOCATION:Flynn Building - Thompson Meeting Room (2nd Floor)
URL:https://sudbury.ma.us/communityhousing/meeting/community-housing-committee-meeting-monday-april-23-2007/
DESCRIPTION:For the latest details\, visit:  https://sudbury.ma.us/communityhousing/meeting/community-housing-committee-meeting-monday-april-23-2007/
END:VEVENT
END:VCALENDAR