BEGIN:VCALENDAR
VERSION:2.0
METHOD:PUBLISH
PRODID:-//hacksw/handcal/NONSGML v1.0//EN
BEGIN:VEVENT
TZID:America/New_York
UID:sudbury-zoom-event-8139541d4ea076484d1ffb9ab201bbbf@sudbury.ma.us
SEQUENCE:1776800352
DTSTAMP:20260421T193912Z
DTSTART:20030915T233000Z
DURATION:PT120M
SUMMARY:Community Housing Committee Meeting: Monday\, September 15\, 2003
LOCATION:Department of Public Works Building - Conference Room
URL:https://sudbury.ma.us/communityhousing/meeting/community-housing-committee-meeting-monday-september-15-2003/
DESCRIPTION:For the latest details\, visit:  https://sudbury.ma.us/communityhousing/meeting/community-housing-committee-meeting-monday-september-15-2003/
END:VEVENT
END:VCALENDAR