BEGIN:VCALENDAR
VERSION:2.0
METHOD:PUBLISH
PRODID:-//hacksw/handcal/NONSGML v1.0//EN
BEGIN:VEVENT
TZID:America/New_York
UID:sudbury-zoom-event-e3aa5b42d2e5f63dc5161eedf573c215@sudbury.ma.us
SEQUENCE:1776698787
DTSTAMP:20260420T152627Z
DTSTART:20240724T233000Z
DURATION:PT120M
SUMMARY:Design Review Board Meeting: Wednesday\, July 24\, 2024
LOCATION:Virtual Meeting
URL:https://sudbury.ma.us/designreviewboard/meeting/design-review-board-meeting-wednesday-july-24-2024/
DESCRIPTION:Design Review Board meeting on July 24\, 2024 7:30:00 PM EDT (-04:00)\n\nTo join the Design Review Board meeting virtually\, please click on this link:\nhttps://zoom.us/j/87965484106\n\nFor audio only\, call the number below and enter the meeting ID on your telephone keypad.\n\nDial-in number:  978-639-3366 or 470-250-9358\nMeeting ID:  879 6548 4106\n\nFor the latest details\, visit:  https://sudbury.ma.us/designreviewboard/meeting/design-review-board-meeting-wednesday-july-24-2024/
END:VEVENT
END:VCALENDAR